Workbook

Sheet uitgaven gewone dienst
A1: Artikelnummer | C1: Rekening 2022 | D1: Begroting 2023 | E1: Begrotingswijziging 2023-1 | F1: Rekening 2023 | G1: Begroting 2024 | H1: Begrotingswijziging 2024-1 | I1: Begrotingswijziging 2024-2 | J1: Rekening 2024 | K1: Begroting 2025 | L1: Begrotingswijziging 2025-1 | M1: Begrotingswijziging 2025-2 | N1: Begroting 2026 | O1: 2027 | P1: 2028 | Q1: 2029 | R1: 2030 | S1: 2031
B2: PERSONEEL
A3: 330 01/111-01 | B3: Bezoldiging van het Operationeel personeel | C3: 3137358.5 | D3: 4050066.8 | E3: 3977566.8 | F3: 3459558.9 | G3: 4251430.9 | H3: 4251430.9 | I3: 3711430.9 | J3: 3696835.1 | K3: 4370894.2 | L3: 4370894.2 | M3: 3993092.9 | N3: 4281061.9 | O3: =N3*1.02 -> 4366683.1 | P3: =O3*1.02 -> 4454016.8 | Q3: =P3*1.02 -> 4543097.1 | R3: =Q3*1.02 -> 4633959 | S3: =R3*1.02 -> 4726638.2
A4: 330 01/111-10 | B4: Wachtgeld Operationeel personeel NAVAP | C4: 207850.46 | D4: 183334.49 | E4: 183334.49 | F4: 133996.19 | G4: 103907.05 | H4: 103907.05 | I4: 76907.05 | J4: 76424.87 | K4: 69357.66 | L4: 69357.66 | M4: 69357.66 | N4: 65007.73 | O4: =N4*1.02 -> 66307.885 | P4: =O4*1.02 -> 67634.042 | Q4: =P4*1.02 -> 68986.723 | R4: =Q4*1.02 -> 70366.458 | S4: =R4*1.02 -> 71773.787
A5: 330 91/111-01 | B5: Bezoldiging van het CALog personeel | C5: 889184.22 | D5: 951200.55 | E5: 951200.55 | F5: 881065.68 | G5: 1010111.8 | H5: 1010111.8 | I5: 900111.85 | J5: 890452.25 | K5: 1008645.5 | L5: 1008645.5 | M5: 1008645.5 | N5: 1026165.7 | O5: =N5*1.02 -> 1046689 | P5: =O5*1.02 -> 1067622.8 | Q5: =P5*1.02 -> 1088975.2 | R5: =Q5*1.02 -> 1110754.7 | S5: =R5*1.02 -> 1132969.8
A6: 330 98/111-01 | B6: Bezoldiging van het politiepersoneel Secretaris | C6: 12535.46 | D6: 13655.55 | E6: 13655.55 | F6: 13407.83 | G6: 13974.14 | H6: 13974.14 | I6: 13974.14 | J6: 13812.54 | K6: 14135.22 | L6: 14135.22 | M6: 14135.22 | N6: 14394.02 | O6: =N6*1.02 -> 14681.9 | P6: =O6*1.02 -> 14975.538 | Q6: =P6*1.02 -> 15275.049 | R6: =Q6*1.02 -> 15580.55 | S6: =R6*1.02 -> 15892.161
A7: 330 99/111-01 | B7: Bezoldiging van het politiepersoneel Rekenplichtige | C7: 10027.96 | D7: 13655.55 | E7: 13655.55 | F7: 10725.92 | G7: 13974.14 | H7: 13974.14 | I7: 11474.14 | J7: 11049.63 | K7: 14135.22 | L7: 14135.22 | M7: 14135.22 | N7: 14394.02 | O7: =N7*1.02 -> 14681.9 | P7: =O7*1.02 -> 14975.538 | Q7: =P7*1.02 -> 15275.049 | R7: =Q7*1.02 -> 15580.55 | S7: =R7*1.02 -> 15892.161
A8: 330 91/111-02 | B8: Bezoldiging van Gesubsidieerde Contractuelen | O8: =N8*1.02 -> 0 | P8: =O8*1.02 -> 0 | Q8: =P8*1.02 -> 0 | R8: =Q8*1.02 -> 0 | S8: =R8*1.02 -> 0
A9: 330 01/111-08 | B9: Variabele Toelagen voor prestaties van het Operationeel personeel | C9: 692165.61 | D9: 790014.65 | E9: 790014.65 | F9: 762817.61 | G9: 884231.58 | H9: 884231.58 | I9: 801231.58 | J9: 800792.45 | K9: 823578.77 | L9: 823578.77 | M9: 810627.77 | N9: 946720.14 | O9: =N9*1.02 -> 965654.54 | P9: =O9*1.02 -> 984967.63 | Q9: =P9*1.02 -> 1004667 | R9: =Q9*1.02 -> 1024760.3 | S9: =R9*1.02 -> 1045255.5
A10: 330 91/111-08 | B10: Variabele Toelagen voor prestaties van het CALogpersoneel | C10: 36835.47 | D10: 16704.1 | E10: 26704.1 | F10: 27289.13 | G10: 26303.5 | H10: 26303.5 | I10: 27803.5 | J10: 27729.43 | K10: 29340.82 | L10: 29340.82 | M10: 29340.82 | N10: 31163.13 | O10: =N10*1.02 -> 31786.393 | P10: =O10*1.02 -> 32422.12 | Q10: =P10*1.02 -> 33070.563 | R10: =Q10*1.02 -> 33731.974 | S10: =R10*1.02 -> 34406.614
A11: 330 91/111-09 | B11: Variabele Toelagen voor prestaties van Gesubsidieerde Contractuelen | O11: =N11*1.02 -> 0 | P11: =O11*1.02 -> 0 | Q11: =P11*1.02 -> 0 | R11: =Q11*1.02 -> 0 | S11: =R11*1.02 -> 0
A12: 330 /111-22 | B12: Presentiegelden van de gemeentemandatarissen: politieraad | C12: 12281 | D12: 18000 | E12: 20000 | F12: 15001.03 | G12: 18000 | H12: 18000 | I12: 21100 | J12: 21069.13 | K12: 18000 | L12: 18000 | M12: 18000 | N12: 18000 | O12: =N12*1.02 -> 18360 | P12: =O12*1.02 -> 18727.2 | Q12: =P12*1.02 -> 19101.744 | R12: =Q12*1.02 -> 19483.779 | S12: =R12*1.02 -> 19873.454
A13: 330 00/111-22 | B13: Presentiegelden van de gemeentemandatarissen: politieraad | O13: =N13*1.02 -> 0 | P13: =O13*1.02 -> 0 | Q13: =P13*1.02 -> 0 | R13: =Q13*1.02 -> 0 | S13: =R13*1.02 -> 0
A14: 330 01/112-01 | B14: Vakantiegeld van het Operationeel personeel | C14: 217892.87 | D14: 288877.59 | E14: 263877.59 | F14: 238151.24 | G14: 303680.06 | H14: 303680.06 | I14: 253680.06 | J14: 253031.65 | K14: 311424.94 | L14: 311424.94 | M14: 311424.94 | N14: 304555.17 | O14: =N14*1.02 -> 310646.27 | P14: =O14*1.02 -> 316859.2 | Q14: =P14*1.02 -> 323196.38 | R14: =Q14*1.02 -> 329660.31 | S14: =R14*1.02 -> 336253.52
A15: 330 01/112-10 | B15: Vakantiegeld Operationeel personeel NAVAP | C15: 22637.1 | D15: 13505.26 | E15: 16505.26 | F15: 19889.28 | G15: 7662.44 | H15: 7662.44 | I15: 7662.44 | J15: 7733.08 | K15: 5114.63 | L15: 5114.63 | M15: 5114.63 | N15: 4763.67 | O15: =N15*1.02 -> 4858.9434 | P15: =O15*1.02 -> 4956.1223 | Q15: =P15*1.02 -> 5055.2447 | R15: =Q15*1.02 -> 5156.3496 | S15: =R15*1.02 -> 5259.4766
A16: 330 01/112-21 | B16: Vergoeding voor laatste ziekte en begrafeniskost | H16: 4561.96 | I16: 4561.96 | J16: 4561.96 | O16: =N16*1.02 -> 0 | P16: =O16*1.02 -> 0 | Q16: =P16*1.02 -> 0 | R16: =Q16*1.02 -> 0 | S16: =R16*1.02 -> 0
A17: 330 91/112-01 | B17: Vakantiegeld van het CALog personeel | C17: 70902.33 | D17: 67972.39 | E17: 65972.39 | F17: 62326.2 | G17: 72532.49 | H17: 72532.49 | I17: 70532.49 | J17: 70318.98 | K17: 71611.16 | L17: 71611.16 | M17: 71611.16 | N17: 72993.39 | O17: =N17*1.02 -> 74453.258 | P17: =O17*1.02 -> 75942.323 | Q17: =P17*1.02 -> 77461.169 | R17: =Q17*1.02 -> 79010.393 | S17: =R17*1.02 -> 80590.601
A18: 330 01/113-01 | B18: Gewone Patronale bijdragen aan de R.S.Z.P.P.O. (Wedde en Vaste toelagen) van het Operationeel personeel | C18: 497688.04 | D18: 630797.05 | E18: 630797.05 | F18: 537083.07 | G18: 633746.75 | H18: 633746.75 | I18: 565313.79 | J18: 564424.6 | K18: 651217.94 | L18: 651217.94 | M18: =624704.2-M19 -> 614293.94 | N18: 636294.67 | O18: =N18*1.02 -> 649020.56 | P18: =O18*1.02 -> 662000.97 | Q18: =P18*1.02 -> 675240.99 | R18: =Q18*1.02 -> 688745.81 | S18: =R18*1.02 -> 702520.73
A19: 330 01/113-01 | B19: Gewone Patronale bijdragen aan de R.S.Z.P.P.O.. (Wachtgeld van het Operationeel personeel in NAVAP) | G19: 15567.04 | H19: 15567.04 | I19: 0 | K19: 10410.26 | L19: 10410.26 | M19: 10410.26 | N19: 10410.26 | O19: =N19*1.02 -> 10618.465 | P19: =O19*1.02 -> 10830.835 | Q19: =P19*1.02 -> 11047.451 | R19: =Q19*1.02 -> 11268.4 | S19: =R19*1.02 -> 11493.768
A20: 330 91/113-01 | B20: Gewone Patronale bijdragen aan de R.S.Z.P.P.O. (Wedde en Vaste toelagen) van het CALogpersoneel | C20: 161407.13 | D20: 163902.88 | E20: 163902.88 | F20: 148862.6 | G20: 166785.47 | H20: 166785.47 | I20: 142785.47 | J20: 142513.25 | K20: 162849.27 | L20: 162849.27 | M20: 162849.27 | N20: 165990.8 | O20: =N20*1.02 -> 169310.62 | P20: =O20*1.02 -> 172696.83 | Q20: =P20*1.02 -> 176150.76 | R20: =Q20*1.02 -> 179673.78 | S20: =R20*1.02 -> 183267.26
A21: 330 98/113-01 | B21: Patronale bijdragen aan de R.S.Z.P.P.O. voor de secretaris | C21: 1940.18 | D21: 3940.99 | E21: 3940.99 | F21: 2075.25 | G21: 4032.94 | H21: 4032.94 | I21: 2532.94 | J21: 2137.01 | K21: 4079.42 | L21: 4079.42 | M21: 4079.42 | N21: 4154.11 | O21: =N21*1.02 -> 4237.1922 | P21: =O21*1.02 -> 4321.936 | Q21: =P21*1.02 -> 4408.3748 | R21: =Q21*1.02 -> 4496.5423 | S21: =R21*1.02 -> 4586.4731
A22: 330 99/113-01 | B22: Patronale bijdragen aan de R.S.Z.P.P.O. voor de bijzonder rekenplichtige | C22: 2893.83 | D22: 3940.99 | E22: 3940.99 | F22: 3095.24 | G22: 4032.94 | H22: 4032.94 | I22: 4032.94 | J22: 3188.37 | K22: 4079.42 | L22: 4079.42 | M22: 4079.42 | N22: 4154.11 | O22: =N22*1.02 -> 4237.1922 | P22: =O22*1.02 -> 4321.936 | Q22: =P22*1.02 -> 4408.3748 | R22: =Q22*1.02 -> 4496.5423 | S22: =R22*1.02 -> 4586.4731
A23: 330 01/113-08 | B23: Gewone Patronale bijdragen aan de R.S.Z.P.P.O. op variabele toelagen voor prestaties van het Operationeel personeel | C23: 107127.7 | D23: 122254.79 | E23: 122254.79 | F23: 118063 | G23: 136834.77 | H23: 136834.77 | I23: 124834.77 | J23: 123904.86 | K23: 127448.81 | L23: 127448.81 | M23: 127448.81 | N23: 146504.93 | O23: =N23*1.02 -> 149435.03 | P23: =O23*1.02 -> 152423.73 | Q23: =P23*1.02 -> 155472.2 | R23: =Q23*1.02 -> 158581.65 | S23: =R23*1.02 -> 161753.28
A24: 330 91/113-08 | B24: Gewone Patronale bijdragen aan de R.S.Z.P.P.O. op variabele toelagen voor prestaties van het CALogpersoneel | C24: 3111.66 | D24: 2595.31 | E24: 4595.31 | F24: 4250.96 | G24: 4119.97 | H24: 4119.97 | I24: 4619.97 | J24: 4335.05 | K24: 4559.83 | L24: 4559.83 | M24: 4559.83 | N24: 4861.86 | O24: =N24*1.02 -> 4959.0972 | P24: =O24*1.02 -> 5058.2791 | Q24: =P24*1.02 -> 5159.4447 | R24: =Q24*1.02 -> 5262.6336 | S24: =R24*1.02 -> 5367.8863
A25: 330 01/113-21 | B25: Patronale bijdragen pensioenen van het Operationeel | C25: 1015265.6 | D25: 1335661.1 | E25: 1325099.8 | F25: 1161066 | G25: 1486709.6 | H25: 1486709.6 | I25: 1278709.6 | J25: 1278198.6 | K25: 1524025.3 | L25: 1524025.3 | M25: 1337544.3 | N25: 1489279.9 | O25: =N25*1.02 -> 1519065.5 | P25: =O25*1.02 -> 1549446.8 | Q25: =P25*1.02 -> 1580435.8 | R25: =Q25*1.02 -> 1612044.5 | S25: =R25*1.02 -> 1644285.4
A26: 330 91/113-21 | B26: Patronale bijdragen pensioenen van het CAlogpersoneel | C26: 239439.66 | D26: 260334.05 | E26: 260334.05 | F26: 258430.54 | G26: 312044.07 | H26: 312044.07 | I26: 289044.07 | J26: 288299.92 | K26: 321969.44 | L26: 321969.44 | M26: 299928.44 | N26: 326115.77 | O26: =N26*1.02 -> 332638.09 | P26: =O26*1.02 -> 339290.85 | Q26: =P26*1.02 -> 346076.66 | R26: =Q26*1.02 -> 352998.2 | S26: =R26*1.02 -> 360058.16
A27: 330 01/115-01 | B27: Vergoeding voor verplaatsingskosten van en naar het werk van het Operationeel personeel | C27: 16373.94 | D27: 14040.24 | E27: 17040.24 | F27: 17725 | G27: 16976.64 | H27: 21976.64 | I27: 24476.64 | J27: 24380.35 | K27: 25627.35 | L27: 25627.35 | M27: 25627.35 | N27: 27186.95 | O27: =N27*1.02 -> 27730.689 | P27: =O27*1.02 -> 28285.303 | Q27: =P27*1.02 -> 28851.009 | R27: =Q27*1.02 -> 29428.029 | S27: =R27*1.02 -> 30016.59
A28: 330 91/115-01 | B28: Vergoeding voor verplaatsingskosten van en naar het werk van het CALog personeel | C28: 5123.23 | D28: 3622.08 | E28: 4622.08 | F28: 4606.37 | G28: 3972.72 | H28: 7972.72 | I28: 7972.72 | J28: 7396.92 | K28: 6992.65 | L28: 6992.65 | M28: 6992.65 | N28: 9971.5 | O28: =N28*1.02 -> 10170.93 | P28: =O28*1.02 -> 10374.349 | Q28: =P28*1.02 -> 10581.836 | R28: =Q28*1.02 -> 10793.472 | S28: =R28*1.02 -> 11009.342
A29: 330 01/115-41 | B29: Maaltijdcheques voor het Operationeel personeel | C29: 16386 | D29: 78604.11 | E29: 78604.11 | F29: 81905.33 | G29: 82871.86 | H29: 82871.86 | I29: 83371.86 | J29: 83212.28 | K29: 83008.46 | L29: 83008.46 | M29: 72525.46 | N29: 79278.33 | O29: =N29*1.02 -> 80863.897 | P29: =O29*1.02 -> 82481.175 | Q29: =P29*1.02 -> 84130.798 | R29: =Q29*1.02 -> 85813.414 | S29: =R29*1.02 -> 87529.682
A30: 331 91/115-41 | B30: Maaltijdcheques voor het CALog personeel | C30: 241.8 | D30: 21138.31 | E30: 21138.31 | F30: 19788.67 | G30: 21855.39 | H30: 21855.39 | I30: 20355.39 | J30: 20346.98 | K30: 18427.54 | L30: 18427.54 | M30: 18427.54 | N30: 22769.54 | O30: =N30*1.02 -> 23224.931 | P30: =O30*1.02 -> 23689.429 | Q30: =P30*1.02 -> 24163.218 | R30: =Q30*1.02 -> 24646.482 | S30: =R30*1.02 -> 25139.412
A31: 330 /115-42 | B31: Andere geldelijke tegemoetkomingen aan de gesubsidieerde contractuelen | C31: 114.4 | D31: 0 | E31: 0 | F31: 0 | G31: 0 | H31: 0 | I31: 0 | O31: =N31*1.02 -> 0 | P31: =O31*1.02 -> 0 | Q31: =P31*1.02 -> 0 | R31: =Q31*1.02 -> 0 | S31: =R31*1.02 -> 0
A32: 330 /117-01 | B32: Premies voor verzekering van arbeidsongevallen van het Calog Personeel | C32: 5295.72 | D32: 4143.81 | E32: 4677.88 | F32: 4677.88 | G32: 4464.64 | H32: 4464.64 | I32: 4464.64 | J32: 4336.5 | K32: 4490.47 | L32: 4490.47 | M32: 4490.47 | N32: 9668.95 | O32: =N32*1.02 -> 9862.329 | P32: =O32*1.02 -> 10059.576 | Q32: =P32*1.02 -> 10260.767 | R32: =Q32*1.02 -> 10465.982 | S32: =R32*1.02 -> 10675.302
A33: 330 01/117-01 | B33: Premies voor verzekering van arbeidsongevallen van het Operationeel personeel | C33: 59858.37 | D33: 49465.21 | E33: 49465.21 | F33: 58442.11 | G33: 54447.72 | H33: 54447.72 | I33: 46447.72 | J33: 46053 | K33: 53639.21 | L33: 53639.21 | M33: 53639.21 | N33: 273370.56 | O33: =N33*1.02 -> 278837.97 | P33: =O33*1.02 -> 284414.73 | Q33: =P33*1.02 -> 290103.03 | R33: =Q33*1.02 -> 295905.09 | S33: =R33*1.02 -> 301823.19
A34: 330 /117-02 | B34: Bijdragen gestort aan de arbeidsgeneeskundige dienst | C34: 12107.52 | D34: 14000 | E34: 14000 | F34: 13965.1 | G34: 14000 | H34: 14000 | I34: 14000 | J34: 12783.6 | K34: 15000 | L34: 15000 | M34: 15000 | N34: 15000 | O34: =N34*1.02 -> 15300 | P34: =O34*1.02 -> 15606 | Q34: =P34*1.02 -> 15918.12 | R34: =Q34*1.02 -> 16236.482 | S34: =R34*1.02 -> 16561.212
A35: 330 91/118-01 | B35: Bijdragen aan de sociale dienst van het CALog personeel | C35: 1349.25 | D35: 1357.37 | E35: 1357.37 | F35: 1318.95 | G35: 1463.27 | H35: 1463.27 | I35: 1463.27 | J35: 1329.95 | K35: 1449.84 | L35: 1449.84 | M35: 1449.84 | N35: 1479.03 | O35: =N35*1.02 -> 1508.6106 | P35: =O35*1.02 -> 1538.7828 | Q35: =P35*1.02 -> 1569.5585 | R35: =Q35*1.02 -> 1600.9496 | S35: =R35*1.02 -> 1632.9686
A36: 330 01/118-01 | B36: Bijdragen aan de sociale dienst van het NAVAP personeel | G36: 149.92 | H36: 149.92 | I36: 149.92 | J36: 0 | K36: 100.07 | L36: 100.07 | M36: 100.07 | N36: 93.2 | O36: =N36*1.02 -> 95.064 | P36: =O36*1.02 -> 96.96528 | Q36: =P36*1.02 -> 98.904586 | R36: =Q36*1.02 -> 100.88268 | S36: =R36*1.02 -> 102.90033
A37: 330 01/118-01 | B37: Bijdragen aan de sociale dienst van het Operationeel personeel | C37: 5862.17 | D37: 7227.27 | E37: 7227.27 | F37: 6348.37 | G37: 7418.86 | H37: 7418.86 | I37: 7418.86 | J37: 6672.58 | K37: 7482.04 | L37: 7482.04 | M37: 7482.04 | N37: 7532.81 | O37: =N37*1.02 -> 7683.4662 | P37: =O37*1.02 -> 7837.1355 | Q37: =P37*1.02 -> 7993.8782 | R37: =Q37*1.02 -> 8153.7558 | S37: =R37*1.02 -> 8316.8309
A38: 330 98/113-01 | B38: Bijdrage sociale dienst secretaris | C38: 18.84 | D38: 20.48 | E38: 20.48 | F38: 20.08 | G38: 20.96 | H38: 20.96 | I38: 20.96 | J38: 20.73 | K38: 21.2 | L38: 21.2 | M38: 21.2 | N38: 21.59 | O38: =N38*1.02 -> 22.0218 | P38: =O38*1.02 -> 22.462236 | Q38: =P38*1.02 -> 22.911481 | R38: =Q38*1.02 -> 23.36971 | S38: =R38*1.02 -> 23.837105
A39: 330 99/118-01 | B39: Bijdrage sociale dienst bijzonder rekenplichtige | C39: 15.05 | D39: 20.48 | E39: 20.48 | F39: 16.11 | G39: 20.96 | H39: 20.96 | I39: 20.96 | J39: 16.58 | K39: 21.2 | L39: 21.2 | M39: 21.2 | N39: 21.59 | O39: =N39*1.02 -> 22.0218 | P39: =O39*1.02 -> 22.462236 | Q39: =P39*1.02 -> 22.911481 | R39: =Q39*1.02 -> 23.36971 | S39: =R39*1.02 -> 23.837105
C40: =SUM(C3:C39) -> 7461291 | D40: =SUM(D3:D39) -> 9124053.5 | E40: =SUM(E3:E39) -> 9035526.2 | F40: =SUM(F3:F39) -> 8065969.6 | G40: =SUM(G3:G39) -> 9677344.6 | H40: =SUM(H3:H39) -> 9690906.6 | I40: =SUM(I3:I39) -> 8522506.6 | J40: =SUM(J3:J39) -> 8487362.2 | ... S40: =SUM(S3:S39) -> 11055580
...

Sheet inkomsten gewone dienst
A1: Artikelnummer | B1: Artikel | C1: Begroting 2024 | D1: Begrotingswijziging 2024-1 | E1: Begrotingswijziging 2024-2 | F1: Rekening 2024 | G1: Begroting 2025 | H1: Begrotingswijziging 2025-1 | I1: Begrotingswijziging 2025-2 | J1: Begroting 2026 | K1: 2027 | L1: 2028 | M1: 2029 | N1: 2030 | O1: 2031
A3: 000/951-01 | B3: Overschot rekening | C3: 1884073.3 | D3: 3288812.1 | E3: 3288812.1 | F3: 3293524 | G3: 986273.72 | H3: 986273.72 | I3: 1611692.1 | J3: 1223091.9 | K3: 0 | L3: 0 | M3: 0 | N3: 0 | O3: 0
A5: 330/161-14 | B5: Terugvorderen van voordelen in natura
A6: 33001/106-02 | B6: Terugv ten onrechte personeelskost | C6: 0 | D6: 2000 | E6: 2000 | F6: 1355.55 | G6: 0 | H6: 0 | I6: 40000 | J6: 0
A7: 330 91/106-02 | B7: Terugv ten onrechte personeelskost | D7: 300 | E7: 300 | F7: 108.28 | I7: 35000
A8: 330 01 /161-14 | B8: Terugvorderen van voordelen in natura van Operationeel personeel | C8: 18397.22 | D8: 18397.22 | E8: 14897.22 | F8: 14814.19 | G8: 20720.59 | H8: 20720.59 | I8: 20720.59 | J8: 17599.47 | K8: =J8*1.02 -> 17951.459 | L8: =K8*1.02 -> 18310.489 | M8: =L8*1.02 -> 18676.698 | N8: =M8*1.02 -> 19050.232 | O8: =N8*1.02 -> 19431.237
A9: 330 91/161-14 | B9: Terugvorderen van voordelen in natura van Calog personeel | C9: 4898.46 | D9: 4898.46 | E9: 3898.46 | F9: 3812.82 | G9: 4599.89 | H9: 4599.89 | I9: 4599.89 | J9: 5054.74 | K9: =J9*1.02 -> 5155.8348 | L9: =K9*1.02 -> 5258.9515 | M9: =L9*1.02 -> 5364.1305 | N9: =M9*1.02 -> 5471.4131 | O9: =N9*1.02 -> 5580.8414
A10: 330 /161-48 | B10: Andere ontvangsten en terugvorderingen | C10: 3000 | D10: 5000 | E10: 9500 | F10: 9507.97 | G10: 5000 | H10: 5000 | I10: 5000 | J10: 5000 | K10: 5000 | L10: 5000 | M10: 5000 | N10: 5000 | O10: 5000
A11: 330 /380-01 | B11: Vergoedingen voor schade | C11: 30000 | D11: 30000 | E11: 84000 | F11: 83576.77 | G11: 30000 | H11: 30000 | I11: 30000 | J11: 5000 | K11: 5000 | L11: 5000 | M11: 5000 | N11: 5000 | O11: 5000
A12: 330 /380-48 | B12: Andere bijdragen, ristorno's en creditnota's
A13: 330 /465-02 | B13: Federale sociale toelage I | C13: 755091.71 | D13: 832770.37 | E13: 832770.37 | F13: 613976.88 | G13: 848593.01 | H13: 848593.01 | I13: 846951.62 | J13: 859624.71 | K13: =J13*1.02 -> 876817.2 | L13: =K13*1.02 -> 894353.55 | M13: =L13*1.02 -> 912240.62 | N13: =M13*1.02 -> 930485.43 | O13: =N13*1.02 -> 949095.14
A14: 330 01/465-02 | B14: federale sociale toelage II | C14: 160936.72 | D14: 160936.72 | E14: 163936.72 | F14: 163878.96 | G14: 155210.09 | H14: 155210.09 | I14: 155210.09 | J14: 174973.01 | K14: =J14*1.02 -> 178472.47 | L14: =K14*1.02 -> 182041.92 | M14: =L14*1.02 -> 185682.76 | N14: =M14*1.02 -> 189396.41 | O14: =N14*1.02 -> 193184.34
A15: 330 02/465-02 | B15: Subsidie NAVAP | C15: 126033.11 | D15: 126033.11 | E15: 126033.11 | F15: 40796.12 | G15: 84982.62 | H15: 84982.62 | I15: 84982.62 | J15: 79558.1 | K15: =J15*1.02 -> 81149.262 | L15: =K15*1.02 -> 82772.247 | M15: =L15*1.02 -> 84427.692 | N15: =M15*1.02 -> 86116.246 | O15: =N15*1.02 -> 87838.571
A16: 330 /465-05 | B16: Toelage geko's | C16: 0 | D16: 28000 | E16: 28000 | F16: 27638.44 | G16: 28000 | H16: 28000 | I16: 28000 | J16: 28000 | K16: 28000 | L16: =K16*1.02 -> 28560 | M16: =L16*1.02 -> 29131.2 | N16: =M16*1.02 -> 29713.824 | O16: =N16*1.02 -> 30308.1
A17: 330 /465-48 | B17: Federale basistoelage | C17: 2152900.8 | D17: 2330754.5 | E17: 2330754.5 | F17: 2179334.5 | G17: 2279582.1 | H17: 2279582.1 | I17: 2277264 | J17: 2337780.6 | K17: =J17*1.02 -> 2384536.2 | L17: =K17*1.02 -> 2432227 | M17: =L17*1.02 -> 2480871.5 | N17: =M17*1.02 -> 2530488.9 | O17: =N17*1.02 -> 2581098.7
A18: 330 03/465-48 | B18: Federale toelage uitrusting handhaving openbare orde | L18: =K18*1.02 -> 0 | M18: =L18*1.02 -> 0 | N18: =M18*1.02 -> 0 | O18: =N18*1.02 -> 0
A19: 330 04/465-48 | B19: Bijkomende federale toelage | C19: 746407.12 | D19: 754617.59 | E19: 754617.59 | F19: 754617.59 | G19: 768955.33 | H19: 768955.33 | I19: 768955.33 | J19: 778951.75 | K19: =J19*1.02 -> 794530.79 | L19: =K19*1.02 -> 810421.4 | M19: =L19*1.02 -> 826629.83 | N19: =M19*1.02 -> 843162.43 | O19: =N19*1.02 -> 860025.67
A20: 330 05/465-48/2021 | B20: Andere specifieke subsidies van de hogere overheden veiligheidsfonds | C20: 469903.36 | D20: 395627.21 | E20: 395627.21 | F20: 395627.21 | G20: 395627.21 | H20: 395627.21 | I20: 316158.31 | J20: 163675.63 | K20: =J20*1.02 -> 166949.14 | L20: =K20*1.02 -> 170288.13 | M20: =L20*1.02 -> 173693.89 | N20: =M20*1.02 -> 177167.77 | O20: =N20*1.02 -> 180711.12
A21: 331 05/465-48 | B21: Andere specifieke subsidies van de hogere overheden veiligheidsfonds | C21: 489272.79 | D21: 488929.8 | E21: 488929.8 | F21: 488929.8 | G21: 488929.8 | H21: 488929.8 | I21: 504299.27 | J21: 504299.27 | K21: =J21*1.02 -> 514385.26 | L21: =K21*1.02 -> 524672.96 | M21: =L21*1.02 -> 535166.42 | N21: =M21*1.02 -> 545869.75 | O21: =N21*1.02 -> 556787.14
A22: 330 07/465-48 | B22: Andere specifieke subsidies om aanwervingsbeleid pz te stimuleren | C22: 0 | D22: 0 | E22: 124073.8 | F22: 124073.8 | G22: 113845.23 | H22: 113845.23 | I22: 113845.23 | J22: 0 | L22: =K22*1.02 -> 0 | M22: =L22*1.02 -> 0 | N22: =M22*1.02 -> 0 | O22: =N22*1.02 -> 0
A23: 330 08/465-08 | B23: Federale dotatie Salduz | C23: 0 | D23: 0 | E23: 5418.05 | F23: 5418.05 | G23: 5168.93 | H23: 5168.93 | I23: 4956.3 | J23: 4956.3 | K23: =J23*1.02 -> 5055.426 | L23: =K23*1.02 -> 5156.5345 | M23: =L23*1.02 -> 5259.6652 | N23: =M23*1.02 -> 5364.8585 | O23: =N23*1.02 -> 5472.1557
A24: 330 09/465-48 | B24: Federale toelage sectoraal akkoord | C24: 0 | D24: 0 | E24: 13910.36 | F24: 13910.36 | G24: 11919.21 | H24: 11919.21 | I24: 12978 | J24: 12978 | K24: =J24*1.02 -> 13237.56 | L24: =K24*1.02 -> 13502.311 | M24: =L24*1.02 -> 13772.357 | N24: =M24*1.02 -> 14047.805 | O24: =N24*1.02 -> 14328.761
A25: 33010/465-48 | B25: Federale toelage sectoraal akkoord 2024 | E25: 143008.78 | F25: 143008.78 | G25: 25908.91 | H25: 25908.91 | I25: 258939.27 | J25: 258939.27 | K25: =J24*1.02 -> 13237.56 | L25: =K25*1.02 -> 13502.311 | M25: =L25*1.02 -> 13772.357 | N25: =M25*1.02 -> 14047.805 | O25: =N25*1.02 -> 14328.761
A26: 330 /465-06 | B26: Bijdrage in weddelasten gedetacheerd personeel | C26: 115000 | D26: 115000 | E26: 115000 | F26: 107620.24 | G26: 115000 | H26: 115000 | I26: 18106.11 | J26: 0
A27: 33001/485-48 | B27: Toelage Hoogstraten | C27: 2439230.5 | D27: 2439230.5 | E27: 2439230.5 | F27: 2439230 | G27: 2439230.5 | H27: 2529882.9 | I27: 2439230.5 | J27: 2704972.5 | K27: =((K$39-K$30-K$31)-(K$3+K$8+K$9+K$10+K$11+K$13+K$14+K$15+K$16+K$17+K$19+K$20+K$21+K$35+K23+K24+K25))*0.5508 -> 3578140.1 | L27: =((L$39-L$30-L$31)-(L$3+L$8+L$9+L$10+L$11+L$13+L$14+L$15+L$16+L$17+L$19+L$20+L$21+L$35+L23+L24+L25))*0.5508 -> 3643188.5 | M27: =((M$39-M$30-M$31)-(M$3+M$8+M$9+M$10+M$11+M$13+M$14+M$15+M$16+M$17+M$19+M$20+M$21+M$35+M23+M24+M25))*0.5508 -> 3709601.4 | N27: =((N$39-N$30-N$31)-(N$3+N$8+N$9+N$10+N$11+N$13+N$14+N$15+N$16+N$17+N$19+N$20+N$21+N$35+N23+N24+N25))*0.5508 -> 3777406.2 | O27: =((O$39-O$30-O$31)-(O$3+O$8+O$9+O$10+O$11+O$13+O$14+O$15+O$16+O$17+O$19+O$20+O$21+O$35+O23+O24+O25))*0.5508 -> 3846630.5
A28: 330 02/485-48 | B28: Toelage Merksplas | C28: 817062.49 | D28: 817062.49 | E28: 817062.49 | F28: 817062 | G28: 817062.49 | H28: 847428.09 | I28: 817062.49 | J28: 906077.38 | K28: =((K$39-K$30-K$31)-(K$3+K$8+K$9+K$10+K$11+K$13+K$14+K$15+K$16+K$17+K$19+K$20+K$21+K$35+K$23+K$24+K$25))*0.1845 -> 1198560 | L28: =((L$39-L$30-L$31)-(L$3+L$8+L$9+L$10+L$11+L$13+L$14+L$15+L$16+L$17+L$19+L$20+L$21+L$35+L$23+L$24+L$25))*0.1845 -> 1220349.1 | M28: =((M$39-M$30-M$31)-(M$3+M$8+M$9+M$10+M$11+M$13+M$14+M$15+M$16+M$17+M$19+M$20+M$21+M$35+M$23+M$24+M$25))*0.1845 -> 1242595.2 | N28: =((N$39-N$30-N$31)-(N$3+N$8+N$9+N$10+N$11+N$13+N$14+N$15+N$16+N$17+N$19+N$20+N$21+N$35+N$23+N$24+N$25))*0.1845 -> 1265307.6 | O28: =((O$39-O$30-O$31)-(O$3+O$8+O$9+O$10+O$11+O$13+O$14+O$15+O$16+O$17+O$19+O$20+O$21+O$35+O$23+O$24+O$25))*0.1845 -> 1288495.5
A29: 330 03/485-48 | B29: Toelage Rijkevorsel | C29: 1172230 | D29: 1172230 | E29: 1172230 | F29: 1172230 | G29: 1172230 | H29: 1215795.2 | I29: 1172230 | J29: 1299938.7 | K29: =((K$39-K$30-K$31)-(K$3+K$8+K$9+K$10+K$11+K$13+K$14+K$15+K$16+K$17+K$19+K$20+K$21+K$35+K$23+K$24+K$25))*0.2647 -> 1719560 | L29: =((L$39-L$30-L$31)-(L$3+L$8+L$9+L$10+L$11+L$13+L$14+L$15+L$16+L$17+L$19+L$20+L$21+L$35+L$23+L$24+L$25))*0.2647 -> 1750820.6 | M29: =((M$39-M$30-M$31)-(M$3+M$8+M$9+M$10+M$11+M$13+M$14+M$15+M$16+M$17+M$19+M$20+M$21+M$35+M$23+M$24+M$25))*0.2647 -> 1782736.9 | N29: =((N$39-N$30-N$31)-(N$3+N$8+N$9+N$10+N$11+N$13+N$14+N$15+N$16+N$17+N$19+N$20+N$21+N$35+N$23+N$24+N$25))*0.2647 -> 1815322.1 | O29: =((O$39-O$30-O$31)-(O$3+O$8+O$9+O$10+O$11+O$13+O$14+O$15+O$16+O$17+O$19+O$20+O$21+O$35+O$23+O$24+O$25))*0.2647 -> 1848589.5
A30: 33005/485-48 | B30: Toelage Merksplas mbt lening | H30: 18941 | I30: 12716.79 | J30: 44647.61 | K30: ='uitgaven gewone dienst'!O106+'uitgaven gewone dienst'!O108 -> 43767.78 | L30: ='uitgaven gewone dienst'!P106+'uitgaven gewone dienst'!P108 -> 42888.01 | M30: ='uitgaven gewone dienst'!Q106+'uitgaven gewone dienst'!Q108 -> 42008.22 | N30: ='uitgaven gewone dienst'!R106+'uitgaven gewone dienst'!R108 -> 41128.41 | O30: ='uitgaven gewone dienst'!S106+'uitgaven gewone dienst'!S108 -> 40248.66
A31: 33006/485-48 | B31: Toelage Rijkevorsel mbt lening | H31: 27175 | I31: 18244.64 | J31: 64055.37 | K31: ='uitgaven gewone dienst'!O107+'uitgaven gewone dienst'!O109 -> 62793.14 | L31: ='uitgaven gewone dienst'!P107+'uitgaven gewone dienst'!P109 -> 61530.92 | M31: ='uitgaven gewone dienst'!Q107+'uitgaven gewone dienst'!Q109 -> 60268.7 | N31: ='uitgaven gewone dienst'!R107+'uitgaven gewone dienst'!R109 -> 59006.48 | O31: ='uitgaven gewone dienst'!S107+'uitgaven gewone dienst'!S109 -> 57744.25
A33: 330 /264-01 | B33: creditinteresten op rekening courant dexia | C33: 0 | D33: 0 | E33: 0 | J33: 0
A34: 330/264-02/2023 | B34: Creditintresten op termijunrekening dexia opbr voorgaand jaar | D34: 7382.44 | E34: 7382.44 | F34: 7382.44 | J34: 0
A35: 330 /264-02 | B35: creditinteresten op termijnrekening dexia | C35: 15000 | D35: 15000 | E35: 25500 | F35: 25337.13 | G35: 15000 | H35: 15000 | I35: 45000 | J35: 15000 | K35: 15000 | L35: 15000 | M35: 15000 | N35: 15000 | O35: 15000
B36: Opbrengsten vorige dienstjaren (cumulatief)
B38: Totaal inkomsten gewone dienst | C38: =SUM(C3:C35) -> 11399438 | D38: =SUM(D3:D35) -> 13032983 | E38: =SUM(E3:E35) -> 13386894 | F38: =SUM(F3:F35) -> 12926772 | G38: =SUM(G3:G35) -> 10811840 | H38: =SUM(H3:H35) -> 11022539 | I38: =SUM(I2:I37) -> 11642143 | J38: =SUM(J3:J35) -> 11494174 | K38: =SUM(K3:K35) -> 11707299 | L38: =SUM(L3:L35) -> 11924845 | M38: =SUM(M3:M35) -> 12146900 | N38: =SUM(N3:N35) -> 12373554 | O38: =SUM(O3:O35) -> 12604899
B39: Totaal uitgaven gewone dienst | C39: ='uitgaven gewone dienst'!G118 -> 10652269 | D39: ='uitgaven gewone dienst'!H118 -> 12046709 | E39: ='uitgaven gewone dienst'!I118 -> 11399597 | F39: ='uitgaven gewone dienst'!J121 -> 11315080 | G39: ='uitgaven gewone dienst'!K118 -> 10799832 | H39: ='uitgaven gewone dienst'!L118 -> 11022539 | I39: ='uitgaven gewone dienst'!M118 -> 10419051 | J39: ='uitgaven gewone dienst'!N118 -> 11494174 | K39: ='uitgaven gewone dienst'!O121 -> 11707299 | L39: ='uitgaven gewone dienst'!P121 -> 11924845 | M39: ='uitgaven gewone dienst'!Q121 -> 12146900 | N39: ='uitgaven gewone dienst'!R121 -> 12373554 | O39: ='uitgaven gewone dienst'!S121 -> 12604899
B41: RESULTAAT GEWONE DIENST | C41: =C38-C39 -> 747168.23 | D41: =D38-D39 -> 986273.72 | E41: =E38-E39 -> 1987296.2 | F41: =F38-F39 -> 1611692.1 | G41: =G38-G39 -> 12007.35 | H41: =H38-H39 -> 0 | I41: =I38-I39 -> 1223091.9 | J41: =J38-J39 -> 0 | ... O41: =O38-O39 -> 0

Sheet uitgaven buitengewone dienst
B1: Artikel | C1: Begroting 2025 | D1: Begrotingswijziging 2025-1 | E1: Begrotingswijziging 2025-2 | F1: Begroting 2026 | G1: 2027 | H1: 2028 | I1: 2029 | J1: 2030 | K1: 2031
A2: Project nieuwbouw | B2: Projectbegeleiding nieuwbouw | C2: 34000 | D2: 96397.56 | E2: 96397.56
B3: Aanvullingen nieuwbouw | C3: 40000 | D3: 40000 | E3: 40000
B4: Bouw nieuwe kazerne | C4: 6848600 | D4: 9141621.2 | E4: 9141621.2
B5: Inrichting gebouw | D5: 800000 | E5: 800000
A6: Uitrusting | B6: Bodycams | C6: 20000 | D6: 20000 | E6: 20000
B7: Drone aanvullingen | C7: 2000 | D7: 2000 | E7: 1280.39
B8: Handboeien en handboeihouders | C8: 12000 | D8: 12000 | E8: 12008.19
A9: ICT | B9: Alletra storage | C9: 88000 | D9: 88000 | E9: 86931.64
B10: Back-up tape library | C10: 29000 | D10: 29000 | E10: 27860.73
B11: Vervangingingsprogramma desktops | C11: 28000 | D11: 28000 | E11: 28000
B12: Vervangingsprogramma laptops | C12: 16000 | D12: 16000 | E12: 16000
B13: Vervanging Focus smartphones | C13: 40000 | D13: 40000 | E13: 40000
B14: Windows server licenties | C14: 6000 | D14: 6000 | E14: 6000
A15: Verkeersuitrusting | B15: 2 fietsen voor anoniem toezicht verkeersdienst | C15: 2000 | D15: 2000 | E15: 2000
B16: Bijkomende uitrusting motards | C16: 8000 | D16: 8000 | E16: 6043.95
A17: Wagenpark | B17: Voertuig OBP | C17: 20000 | D17: 20000 | E17: 24614.59
C18: =SUM(C2:C17) -> 7193600 | D18: =SUM(D2:D17) -> 10349019 | E18: =SUM(E2:E17) -> 10348758 | G18: 300000 | H18: 300000 | I18: 300000 | J18: 300000 | K18: 300000
A19: Project nieuwbouw
A20: Uitrusting | B20: Radiovesten anonieme dracht | C20: Recherche | F20: 7600
B21: Radiotoestellen klein (6) | C21: Recherche | F21: 6000 | G21: Abo geld Astrid ook omhoog
B22: Wapengordels | C22: Interventie | F22: 7000 | G22: Ergonomisch model
A24: ICT | B24: Vervangingingsprogramma desktops | F24: 40000
B25: Vervangingsprogramma laptops | F25: 20000
B26: Windows server licenties | F26: 0
A27: Verkeersuitrusting | B27: Rollentestbank | C27: Verkeer | F27: 8500 | G27: Fatbikes en steps
B28: Airbag vesten | C28: Verkeer | F28: 2500
A29: Wagenpark | B29: Vervanging poule combi | C29: Interventie | F29: 108000
B30: Commandowagen | C30: Operaties | F30: 160000
B31: Skoda LCZ | C31: Recherche | F31: 30000
F32: =SUM(F20:F31) -> 389600

Sheet inkomsten buitengewone dienst
A1: Artikelnummer | B1: Artikel | C1: Begroting 2023 | D1: Rekening 2023 | E1: Begroting 2024 | F1: Begrotingswijziging 2024-1 | G1: Begrotingswijziging 2024-2 | H1: Rekening 2024 | I1: Begroting 2025 | J1: Begrotings-wijziging 2025-1 | K1: Begrotings-wijziging 2025-2 | L1: Begroting 2026 | M1: 2027 | N1: 2028 | O1: 2029 | P1: 2030 | Q1: 2031
F2: Tekort (resultaat bij uitgaven)
B3: Overschot rekening | C3: 42544.53 | D3: 51079.7 | E3: 914.59 | F3: 0 | G3: 0 | H3: 93042.62 | I3: 12739.89 | J3: 12739.89 | K3: 12739.91 | L3: 198567.12
A5: 330/560-51 | B5: Schadevergoeding herstelling site ANPR | F5: 29140.73 | G5: 16387.36 | H5: 16387.36
A6: 330 01/685-51 | B6: investeringssubsidie vanwege gemeente Hoogstraten (1) | C6: 147314.47 | D6: 147314.48 | E6: 184289.65 | F6: 184289.65 | G6: 184289.65 | H6: 184289.65 | I6: 184289.64 | J6: 1836689.6 | K6: 1836689.6 | L6: 105220.91 | M6: =$A$24*'uitgaven buitengewone dienst'!G$18 -> 165240 | N6: =$A$24*'uitgaven buitengewone dienst'!H$18 -> 165240 | O6: =$A$24*'uitgaven buitengewone dienst'!I$18 -> 165240 | P6: =$A$24*'uitgaven buitengewone dienst'!J$18 -> 165240 | Q6: =$A$24*'uitgaven buitengewone dienst'!K$18 -> 165240
A7: 331 02/685-51 | B7: investeringssubsidie vanwege gemeente Merksplas (1) | C7: 49345.53 | D7: 49346 | E7: 61731.01 | F7: 61731.01 | G7: 61731.01 | H7: 61731.01 | I7: 61731.01 | J7: 61731.01 | K7: 61731.01 | L7: 35245.566 | M7: =$A$25*'uitgaven buitengewone dienst'!G$18 -> 55350 | N7: =$A$25*'uitgaven buitengewone dienst'!H$18 -> 55350 | O7: =$A$25*'uitgaven buitengewone dienst'!I$18 -> 55350 | P7: =$A$25*'uitgaven buitengewone dienst'!J$18 -> 55350 | Q7: =$A$25*'uitgaven buitengewone dienst'!K$18 -> 55350
A8: 332 03/685-51 | B8: investeringssubsidie vanwege gemeente Rijkevorsel (1) | C8: 70795.46 | D8: 70795 | E8: 88564.761 | F8: 88564.761 | G8: 88564.761 | H8: 88564.761 | I8: 88564.76 | J8: 88564.76 | K8: 88564.76 | L8: 50566.403 | M8: =$A$26*'uitgaven buitengewone dienst'!G$18 -> 79410 | N8: =$A$26*'uitgaven buitengewone dienst'!H$18 -> 79410 | O8: =$A$26*'uitgaven buitengewone dienst'!I$18 -> 79410 | P8: =$A$26*'uitgaven buitengewone dienst'!J$18 -> 79410 | Q8: =$A$26*'uitgaven buitengewone dienst'!K$18 -> 79410
A9: 330/773-52 | B9: Verkoop auto's en bestelwagens | D9: 2500 | F9: 3900 | G9: 3900 | H9: 3900
A10: 330/961-51 | B10: Opname lening 5 mio 30j Belfius | E10: 2000000 | F10: 0 | G10: 0 | H10: 0 | I10: 5000000 | J10: 5000000 | K10: 5000000
A11: 33002/961-51 | B11: Opname lening Merksplas | J11: 553500 | K11: 553500
A12: 33003/961-51 | B12: Opname lening Rijkevorsel | J12: 794100 | K12: 794100
A13: 330/961-56 | B13: Korte termijn krediet | I13: 1848600 | J13: 2200000 | K13: 2200000
B15: Overdracht GD - BD Hoogstraten | F15: 671976 | G15: 1023747.9 | H15: 1023747.9
B16: Overdracht GD - BD Merksplas | F16: 225090 | G16: 342922.08 | H16: 342922.08
B17: Overdracht GD - BD Rijkevorsel | F17: 322934 | G17: 491986.31 | H17: 491986.31
B18: Totaal inkomsten buitengewone dienst | C18: 310000 | D18: =SUM(D3:D9) -> 321035.18 | E18: =SUM(E3:E17) -> 2335500 | F18: =SUM(F3:F17) -> 1587626.1 | G18: =SUM(G3:G17) -> 2213529 | H18: =SUM(H3:H17) -> 2306571.7 | I18: =SUM(I3:I13) -> 7195925.3 | J18: =SUM(J3:J13) -> 10547325 | K18: =SUM(K3:K13) -> 10547325 | L18: =SUM(L3:L13) -> 389600 | M18: =SUM(M3:M13) -> 300000 | N18: =SUM(N3:N13) -> 300000 | O18: =SUM(O3:O13) -> 300000 | P18: =SUM(P3:P13) -> 300000 | Q18: =SUM(Q3:Q13) -> 300000
B19: Totaal uitgaven buitengewone dienst | C19: 310000 | D19: =320120.58+1170.6 -> 321291.18 | E19: 2335500 | F19: 1574886.2 | G19: ='uitgaven buitengewone dienst'!#REF! -> #REF! | H19: ='uitgaven buitengewone dienst'!#REF! -> #REF! | I19: ='uitgaven buitengewone dienst'!C18 -> 7193600 | J19: ='uitgaven buitengewone dienst'!D18 -> 10349019 | K19: ='uitgaven buitengewone dienst'!E18 -> 10348758 | L19: ='uitgaven buitengewone dienst'!F32 -> 389600 | M19: ='uitgaven buitengewone dienst'!G$18 -> 300000 | N19: ='uitgaven buitengewone dienst'!H$18 -> 300000 | O19: ='uitgaven buitengewone dienst'!I$18 -> 300000 | P19: ='uitgaven buitengewone dienst'!J$18 -> 300000 | Q19: ='uitgaven buitengewone dienst'!K$18 -> 300000
B20: Over te dragen kredieten | H20: 240524.17
B22: Resultaat buitengewone dienst | C22: =C18-C19 -> 0 | D22: =D18-D19 -> -256 | E22: =E18-E19 -> 0 | F22: =F18-F19 -> 12739.9 | G22: =G18-G19 -> #REF! | H22: =H18-H19-H20 -> #REF! | I22: =I18-I19 -> 2325.3 | J22: =J18-J19 -> 198306.59 | K22: =K18-K19 -> 198567.12 | L22: =L18-L19 -> 0 | M22: =M18-M19 -> 0 | N22: =N18-N19 -> 0 | O22: =O18-O19 -> 0 | P22: =P18-P19 -> 0 | Q22: =Q18-Q19 -> 0
A24: 0.5508
A25: 0.1845
A26: 0.2647

Sheet Samenvatting dotaties
B3: totaal gemeentelijke dotaties (gewone + buitengewone dienst)
A6: Gewone dienst | B6: Begroting 2024 | C6: Begroting 2025 | D6: Begroting 2026 | E6: 2027 | F6: 2028 | G6: 2029 | H6: 2030 | I6: 2031
A7: Hoogstraten | B7: ='[1]inkomsten gewone dienst'!F25 -> 2439230.5 | C7: 2439230.5 | D7: ='inkomsten gewone dienst'!J27 -> 2704972.5 | E7: ='inkomsten gewone dienst'!K27 -> 3578140.1 | F7: ='inkomsten gewone dienst'!L27 -> 3643188.5 | G7: ='inkomsten gewone dienst'!M27 -> 3709601.4 | H7: ='inkomsten gewone dienst'!N27 -> 3777406.2 | I7: ='inkomsten gewone dienst'!O27 -> 3846630.5
A8: Merksplas | B8: ='[1]inkomsten gewone dienst'!F26 -> 817062.49 | C8: 817062.49 | D8: ='inkomsten gewone dienst'!J28 -> 906077.38 | E8: ='inkomsten gewone dienst'!K28 -> 1198560 | F8: ='inkomsten gewone dienst'!L28 -> 1220349.1 | G8: ='inkomsten gewone dienst'!M28 -> 1242595.2 | H8: ='inkomsten gewone dienst'!N28 -> 1265307.6 | I8: ='inkomsten gewone dienst'!O28 -> 1288495.5
A9: Rijkevorsel | B9: ='[1]inkomsten gewone dienst'!F27 -> 1172230 | C9: 1172230 | D9: ='inkomsten gewone dienst'!J29 -> 1299938.7 | E9: ='inkomsten gewone dienst'!K29 -> 1719560 | F9: ='inkomsten gewone dienst'!L29 -> 1750820.6 | G9: ='inkomsten gewone dienst'!M29 -> 1782736.9 | H9: ='inkomsten gewone dienst'!N29 -> 1815322.1 | I9: ='inkomsten gewone dienst'!O29 -> 1848589.5
A10: Merksplas lening kazerne | E10: ='inkomsten gewone dienst'!K30 -> 43767.78 | F10: ='inkomsten gewone dienst'!L30 -> 42888.01 | G10: ='inkomsten gewone dienst'!M30 -> 42008.22 | H10: ='inkomsten gewone dienst'!N30 -> 41128.41 | I10: ='inkomsten gewone dienst'!O30 -> 40248.66
A11: Rijkevorsel lening kazerne | E11: ='inkomsten gewone dienst'!K31 -> 62793.14 | F11: ='inkomsten gewone dienst'!L31 -> 61530.92 | G11: ='inkomsten gewone dienst'!M31 -> 60268.7 | H11: ='inkomsten gewone dienst'!N31 -> 59006.48 | I11: ='inkomsten gewone dienst'!O31 -> 57744.25
A12: Totaal gewone dienst | B12: =SUM(B7:B9) -> 4428523 | C12: 4428523 | D12: =SUM(D7:D9) -> 4910988.5 | E12: =SUM(E7:E11) -> 6602821 | F12: =SUM(F7:F11) -> 6718777.1 | G12: =SUM(G7:G11) -> 6837210.5 | H12: =SUM(H7:H11) -> 6958170.8 | I12: =SUM(I7:I11) -> 7081708.5
A14: Buitengewone dienst
A15: Hoogstraten | B15: ='[1]inkomsten buitengewone dienst'!E5 -> 184289.64 | C15: ='[1]inkomsten buitengewone dienst'!F5 -> 184793.4 | D15: ='inkomsten buitengewone dienst'!L6 -> 105220.91 | E15: =E18*J15 -> 165240 | F15: 165240 | G15: 165240 | H15: 165240 | I15: 165240 | J15: 0.5508
A16: Merksplas | B16: ='[1]inkomsten buitengewone dienst'!E6 -> 61731.008 | C16: ='[1]inkomsten buitengewone dienst'!F6 -> 61899.75 | D16: ='inkomsten buitengewone dienst'!L7 -> 35245.566 | E16: =E18*J16 -> 55350 | F16: 55350 | G16: 55350 | H16: 55350 | I16: 55350 | J16: 0.1845
A17: Rijkevorsel | B17: ='[1]inkomsten buitengewone dienst'!E7 -> 88564.758 | C17: ='[1]inkomsten buitengewone dienst'!F7 -> 88806.85 | D17: ='inkomsten buitengewone dienst'!L8 -> 50566.403 | E17: =E18*J17 -> 79410 | F17: 79410 | G17: 79410 | H17: 79410 | I17: 79410 | J17: 0.2647
A18: Totaal buitengewone dienst | B18: =SUM(B15:B17) -> 334585.41 | C18: =SUM(C15:C17) -> 335500 | D18: =SUM(D15:D17) -> 191032.88 | E18: 300000 | F18: 300000 | G18: 300000 | H18: 300000 | I18: 300000
A21: Totaal gewone + buitengewone dienst | B21: Begroting 2024 | C21: Begroting 2025 | D21: Begroting 2026
A22: Hoogstraten | B22: =B7+B15 -> 2623520.1 | C22: =C7+C15 -> 2624023.9 | D22: =D7+D15 -> 2810193.4 | E22: =E7+E15 -> 3743380.1 | F22: =F7+F15 -> 3808428.5 | G22: =G7+G15 -> 3874841.4 | H22: =H7+H15 -> 3942646.2 | I22: =I7+I15 -> 4011870.5
A23: Merksplas | B23: =B8+B16 -> 878793.5 | C23: =C8+C16 -> 878962.24 | D23: =D8+D16 -> 941322.95 | E23: =E8+E10+E16 -> 1297677.8 | F23: =F8+F10+F16 -> 1318587.1 | G23: =G8+G10+G16 -> 1339953.5 | H23: =H8+H10+H16 -> 1361786 | I23: =I8+I10+I16 -> 1384094.2
A24: Rijkevorsel | B24: =B9+B17 -> 1260794.8 | C24: =C9+C17 -> 1261036.9 | D24: =D9+D17 -> 1350505.1 | E24: =E9+E11+E17 -> 1861763.2 | F24: =F9+F11+F17 -> 1891761.5 | G24: =G9+G11+G17 -> 1922415.6 | H24: =H9+H11+H17 -> 1953738.6 | I24: =I9+I11+I17 -> 1985743.8
B25: =SUM(B22:B24) -> 4763108.4 | C25: =SUM(C22:C24) -> 4764023 | D25: =SUM(D22:D24) -> 5102021.4 | E25: =SUM(E22:E24) -> 6902821 | F25: =SUM(F22:F24) -> 7018777.1 | G25: =SUM(G22:G24) -> 7137210.5 | H25: =SUM(H22:H24) -> 7258170.8 | I25: =SUM(I22:I24) -> 7381708.5
