Workbook

Sheet Begroting 2027-2029
A1: 2027 | B1: Doel | C1: Budget | D1: % | E1: 2028 | F1: Doel | G1: Budget | H1: % | I1: 2029 | K1: Budget | L1: %
B2: SD1OD1 Antennefunctie+ RONK | C2: =$D42/100*D2 -> 578.3708 | D2: 0.2
B3: SD1OD1 opstart IGS | C3: =$D42/100*D3 -> 21688.905 | D3: 7.5 | F3: SD1OD1 Antennefunctie+ RONK | G3: =$D42/100*H3 -> 578.3708 | H3: 0.2 | J3: SD1OD1 Antennefunctie+ RONK | K3: =$D40/100*L3 -> 330.4976 | L3: 0.2
B4: huistijl,website, communicatie, integratie PV met ENK
B5: SD1OD2 Kennisdeling en vorming cultuur en bib | C5: =$D42/100*D5 -> 2891.854 | D5: 1 | F5: SD1OD2 Kennisdeling en vorming cultuur en bib | G5: =$D42/100*H5 -> 2891.854 | H5: 1 | J5: SD1OD2 Kennisdeling en vorming cultuur en bib | K5: =$D42/100*L5 -> 2891.854 | L5: 1
B6: vormingsbudget | F6: regiononale overleggen, vormingsbudget | J6: regiononale overleggen, vormingsbudget
B7: SD1OD3 Regierol & afstemming bovenlokale werking | C7: =$D42/100*D7 -> 5783.708 | D7: 2 | F7: SD1OD3 Regierol & afstemming en ondersteuning bovenlokale werking | G7: =$D42/100*H7 -> 26026.686 | H7: 9 | J7: SD1OD3 Regierol & afstemming en ondersteuning bovenlokale werking | K7: =$D42/100*L7 -> 26026.686 | L7: 9
B8: Samenaankopen, cofinanciering bovenlokale evenementen, projecten bibliotheken | F8: Samenaankopen, cofinanciering bovenlokale evenementen, projecten bibliotheken | J8: Samenaankopen, cofinanciering bovenlokale evenementen, projecten bibliotheken
B9: SD1OD4 Regionaal subsidiekader en begeleiding | C9: =$D42/100*D9 -> 0 | F9: SD1OD4 Regionaal subsidiekader en begeleiding | G9: =$D42/100*H9 -> 0 | J9: SD1OD4 Regionaal subsidiekader en begeleiding | K9: =$D42/100*L9 -> 0
B10: SD1OD5 Regionale communicatie | C10: =$D42/100*D10 -> 17351.124 | D10: 6 | F10: SD1OD5 Regionale communicatie | G10: =$D42/100*H10 -> 26026.686 | H10: 9 | J10: SD1OD5 Regionale communicatie | K10: =$D42/100*L10 -> 26026.686 | L10: 9
B11: opmaak communicatieplan, eerste regionale comm | F11: Maandelijkse en periodieke regionale communicatie | J11: Maandelijkse en periodieke regionale communicatie
B12: SD1OD6 ondersteuning infrastructuur en materiaal | C12: =$D42/100*D12 -> 2891.854 | D12: 1 | F12: SD1OD6 ondersteuning infrastructuur en materiaal | G12: =$D42/100*H12 -> 14459.27 | H12: 5 | J12: SD1OD6 ondersteuning infrastructuur en materiaal | K12: =$D42/100*L12 -> 14459.27 | L12: 5
F13: aankoop bovenlokaal materiaal, facilitatie leegstand en gedeeld gebruik | J13: aankoop bovenlokaal materiaal, facilitatie leegstand en gedeeld gebruik
B14: SD1OD6 Zaalzoeker | C14: =$D42/100*D14 -> 11567.416 | D14: 4 | F14: SD1OD6 Zaalzoeker | G14: =$D42/100*H14 -> 867.5562 | H14: 0.3 | J14: SD1OD6 Zaalzoeker | K14: =$D42/100*L14 -> 867.5562 | L14: 0.3
B15: SD2OD1 Regionaal makersnetwerk & Kennisdeling | C15: =$D42/100*D15 -> 5783.708 | D15: 2 | F15: SD2OD1 Regionaal makersnetwerk & Kennisdeling | G15: =$D42/100*H15 -> 2891.854 | H15: 1 | J15: SD2OD1 Regionaal makersnetwerk & Kennisdeling | K15: =$D42/100*L15 -> 2891.854 | L15: 1
F16: Netwerkdagen, inspraak momenten, vormingen, kennisbank, fairpay | J16: Netwerkdagen, inspraak momenten, vormingen, kennisbank, fairpay
B17: SD2OD2 Microfonds | C17: =$D42/100*D17 -> 11567.416 | D17: 4 | F17: SD2OD2 Microfonds | G17: =$D42/100*H17 -> 18797.051 | H17: 6.5 | J17: SD2OD2 Microfonds | K17: =$D42/100*L17 -> 18797.051 | L17: 6.5
B18: SD2OD3 Verenigingen en vrijwilligers | C18: =$D42/100*D18 -> 2891.854 | D18: 1 | F18: SD2OD3 Verenigingen en vrijwilligers | G18: =$D42/100*H18 -> 8675.562 | H18: 3 | J18: SD2OD3 Verenigingen en vrijwilligers | K18: =$D42/100*L18 -> 4337.781 | L18: 1.5
B19: opstart transversaal, regionaal overleg,kennisbank, vormingen en advies | F19: facilitatie, kennisbank,pilootprojecten, vormingen en advies, | J19: facilitatie, kennisbank,pilootprojecten, vormingen en advies,
B20: SD2OD4 Regionale residenties | C20: =$D42/100*D20 -> 0 | D20: 0 | F20: SD2OD4 Regionale residenties | G20: =$D42/100*H20 -> 0 | H20: 0 | J20: SD2OD4 Regionale residenties | K20: =$D42/100*L20 -> 7229.635 | L20: 2.5
B21: SD3OD1 Bovenlokale vrijetijds participatie | C21: =$D42/100*D21 -> 2891.854 | D21: 1 | F21: SD3OD1 Bovenlokale vrijetijds participatie | G21: =$D42/100*H21 -> 1445.927 | H21: 0.5 | J21: SD3OD1 Bovenlokale vrijetijds participatie | K21: =$D42/100*L21 -> 1445.927 | L21: 0.5
B22: SD3OD3 Verhogen participatie door kennisdeling en data | C22: =$D42/100*D22 -> 5783.708 | D22: 2 | F22: SD3OD3 Verhogen participatie door kennisdeling en data | G22: =$D42/100*H22 -> 8675.562 | H22: 3 | J22: SD3OD3 Verhogen participatie door kennisdeling en data | K22: =$D42/100*L22 -> 8675.562 | L22: 3
B23: SD3OD3 Digitale en hybride participatie | C23: =$D42/100*D23 -> 5783.708 | D23: 2 | F23: SD3OD4 Digitale en hybride participatie | G23: =$D42/100*H23 -> 8675.562 | H23: 3 | J23: SD3OD3 Digitale en hybride participatie | K23: =$D42/100*L23 -> 5783.708 | L23: 2
B24: SD3OD5 Specifieke doelgroepen | C24: =$D42/100*D24 -> 0 | D24: 0 | F24: SD3OD5 Specifieke doelgroepen | G24: =$D42/100*H24 -> 2891.854 | H24: 1 | J24: SD3OD5 Specifieke doelgroepen | K24: =$D42/100*L24 -> 2891.854 | L24: 1
B25: Opstart ambassadeurs, onderzoek | F25: Ambassadeurs | J25: Ambassadeurs
B26: SD3OD2 Bibliotheken ondersteunen | C26: =$D$42/100*D26 -> 11567.416 | D26: 4 | F26: SD4 Bibliotheken | G26: =$D42/100*H26 -> 8675.562 | H26: 3 | J26: SD3OD2 Bibliotheken ondersteunen | K26: =$D$42/100*L26 -> 8675.562 | L26: 3
B27: onvoorziene kosten 3% | C27: =$D42/100*D27 -> 8675.562 | D27: 3 | F27: onvoorziene kosten 3% | G27: =$D42/100*H27 -> 8675.562 | H27: 3 | J27: onvoorziene kosten 3% | K27: =$D42/100*L27 -> 5783.708 | L27: 2
D28: =SUM(D3:D27) -> 40.5 | H28: =SUM(H3:H27) -> 48.5 | L28: =SUM(L3:L27) -> 47.5
C29: Totaal over | D29: =D42-(SUM(C3:C27))-(C31+C32+C33+C34) -> 32065.313 | F29: Totaal over | G29: =D42-(SUM(G3:G27))-(F31+F32+F33+F34) -> 4030.481 | J29: Totaal over | K29: =D42-(SUM(K3:K27))-(J31+J32+J33+J34) -> 2460.9582
C30: nodig | D30: =(SUM(C3:C27))+(C31+C32+C33+C34) -> 257120.09 | F30: nodig | G30: =(SUM(G3:G27))+(F31+F32+F33+F34) -> 285154.92 | J30: nodig | K30: =(SUM(K3:K27))+(J31+J32+J33+J34) -> 286724.44
A31: 0.2 | B31: VTE a algemeen coo | C31: =A31*100000 -> 20000 | F31: =C31+(C31/100)*3.5 -> 20700 | J31: =F31+(F31/100)*3.5 -> 21424.5
A32: 1 | B32: VTE b coo bolocu | C32: =A32*80000 -> 80000 | F32: =C32+(C32/100)*3.5 -> 82800 | J32: =F32+(F32/100)*3.5 -> 85698
A33: 0.5 | B33: VTE C admin en com | C33: =A33*60000 -> 30000 | F33: =C33+(C33/100)*3.5 -> 31050 | J33: =F33+(F33/100)*3.5 -> 32136.75
B34: overhead personeelskost | C34: 10000 | F34: =10000+(C34/100*3.5) -> 10350 | J34: =10000+(C34/100*3.5) -> 10350
B35: Jaarlijkse indexatie 2%+ 1,5% ancienniteit
B39: Bron | C39: €/inw | D39: Totaal
B40: Vlaanderen | C40: 0.8 | D40: =C40*206561 -> 165248.8
B41: Gemeenten | C41: =D41/206561 -> 0.6 | D41: =(D40/100)*75 -> 123936.6
B42: totaal | C42: =SUM(C40:C41) -> 1.4 | D42: =SUM(D40:D41) -> 289185.4

Sheet Bijdragen per gemeente
A1: gemeente | B1: inwoners | C1: aandeel % | D1: bijdrage | F1: Maximale bijdragen
A2: Arendonk | B2: 13798 | C2: 0.07 | D2: =B2*'Begroting 2027-2029'!$C$41 -> 8278.8
A3: Baarle-Hertog | B3: 3060 | C3: 0.01 | D3: =B3*'Begroting 2027-2029'!$C$41 -> 1836
A4: Beerse | B4: 18668 | C4: 0.09 | D4: =B4*'Begroting 2027-2029'!$C$41 -> 11200.8
A5: Hoogstraten | B5: 22385 | C5: 0.11 | D5: =B5*'Begroting 2027-2029'!$C$41 -> 13431
A6: Kasterlee | B6: 19775 | C6: 0.1 | D6: =B6*'Begroting 2027-2029'!$C$41 -> 11865
A7: Lille | B7: 17081 | C7: 0.08 | D7: =B7*'Begroting 2027-2029'!$C$41 -> 10248.6
A8: Merksplas | B8: 8917 | C8: 0.04 | D8: =B8*'Begroting 2027-2029'!$C$41 -> 5350.2
A9: Oud-Turnhout | B9: 14981 | C9: 0.07 | D9: =B9*'Begroting 2027-2029'!$C$41 -> 8988.6
A10: Ravels | B10: 15574 | C10: 0.08 | D10: =B10*'Begroting 2027-2029'!$C$41 -> 9344.4
A11: Rijkevorsel | B11: 12551 | C11: 0.06 | D11: =B11*'Begroting 2027-2029'!$C$41 -> 7530.6
A12: Turnhout | B12: 47951 | C12: 0.23 | D12: =B12*'Begroting 2027-2029'!$C$41 -> 28770.6
A13: Vosselaar | B13: 11820 | C13: 0.06 | D13: =B13*'Begroting 2027-2029'!$C$41 -> 7092
A15: Totaal | B15: =SUM(B2:B14) -> 206561 | C15: =SUM(C2:C14) -> 1 | D15: ='Begroting 2027-2029'!D41 -> 123936.6
A16: Subsidie Vlaanderen | D16: ='Begroting 2027-2029'!D40 -> 165248.8
