Workbook

Sheet MeerjarenPlan2024_2026
A1: Volgnummer | B1: Functie | C1: Sub | D1: ECG | E1: Economische Code | F1: Omschrijving | G1: Type budget | H1: Soort budget | I1: Transactiekrediet 2024 | J1: Transactiekrediet 2025 | K1: Transactiekrediet 2026 | L1: Volgnummer raming 2024
A2: WERKING
A3: GD - Ontvangsten
A4: MJP000126 | B4: 351 | D4: 60 | E4: 106-01 | F4: Creditnota's en ristorno's | G4: E | H4: O | I4: 500 | J4: 500 | K4: 500 | L4: 2024000108
A5: MJP000132 | B5: 351 | D5: 60 | E5: 106-02 | F5: Retour van ten onrechte betaalde personeelsuitgaven | G5: E | H5: O | I5: 500 | J5: 500 | K5: 500 | L5: 2024000114
A6: MJP000124 | B6: 351 | C6: 08 | D6: 60 | E6: 161-01 | F6: Interventies Zone | G6: E | H6: O | I6: 60000 | J6: 60000 | K6: 60000 | L6: 2024000106
A7: MJP000123 | B7: 351 | C7: 07 | D7: 60 | E7: 161-01 | F7: Preventie Zone | G7: E | H7: O | I7: 200000 | J7: 200000 | K7: 200000 | L7: 2024000105
A8: MJP000122 | B8: 351 | C8: 05 | D8: 60 | E8: 161-01 | F8: Ziekenwagen Turnhout en Hoogstraten | G8: E | H8: O | I8: 420000 | J8: 420000 | K8: 420000 | L8: 2024000104
A9: MJP000121 | B9: 351 | C9: 03 | D9: 60 | E9: 161-01 | F9: Doorrekening hydranten | G9: E | H9: O | I9: 7500 | J9: 7500 | K9: 7500 | L9: 2024000103
A10: MJP000060 | B10: 351 | C10: 02 | D10: 60 | E10: 161-01 | F10: Intrazonale prestaties | G10: E | H10: O | I10: 0 | J10: 0 | K10: 0 | L10: 2024000058
A11: MJP000131 | B11: 351 | D11: 60 | E11: 161-14 | F11: Pers bijdr MC personeel | G11: E | H11: O | I11: 24000 | J11: 24000 | K11: 24000 | L11: 2024000113
A12: MJP000361 | B12: 351 | D12: 60 | E12: 161-48 | F12: Terugvordering intresten kazerne Hoogstraten | G12: E | H12: O | I12: 0 | J12: 213885 | K12: 206645 | L12: 2024000191
A13: MJP000125 | B13: 351 | C13: 01 | D13: 60 | E13: 161-48 | F13: Andere ontvangsten en terugvorderingen | G13: E | H13: O | I13: 500 | J13: 500 | K13: 500 | L13: 2024000107
A14: MJP000360 | B14: 351 | D14: 60 | E14: 161-48 | F14: Terugvordering intresten kazerne Lille | G14: E | H14: O | I14: 0 | J14: 53475 | K14: 51665 | L14: 2024000190
D15: Totaal 60 | I15: =SUBTOTAL(9,I4:I14) -> 713000 | J15: =SUBTOTAL(9,J4:J14) -> 980360 | K15: =SUBTOTAL(9,K4:K14) -> 971310
A16: MJP000118 | B16: 351 | D16: 61 | E16: 380-01 | F16: Recuperatie verzekeringen schade en leven | G16: E | H16: O | I16: 40000 | J16: 40000 | K16: 40000 | L16: 2024000100
A17: MJP000119 | B17: 351 | D17: 61 | E17: 380-48 | F17: Recup adm kost aanmaningen | G17: E | H17: O | I17: 15000 | J17: 15000 | K17: 15000 | L17: 2024000101
A18: MJP000308 | B18: 351 | C18: 06 | D18: 61 | E18: 465-01 | F18: Recuperatie bodemonderzoek PFAS | G18: E | H18: O | I18: 0 | J18: 0 | K18: 0 | L18: 2024000171
A19: MJP000062 | B19: 351 | D19: 61 | E19: 465-01 | F19: Federale basisdotatie | G19: E | H19: O | I19: 776185 | J19: 776185 | K19: 776185 | L19: 2024000060
A20: MJP000120 | B20: 351 | D20: 61 | E20: 465-05 | F20: Premie GESCO personeel TU HO RA | G20: E | H20: O | I20: 20700 | J20: 20700 | K20: 20700 | L20: 2024000102
A21: MJP000235 | B21: 351 | D21: 61 | E21: 465-06 | F21: Doorrekening personeel aan VESTA | G21: E | H21: O | I21: 43000 | J21: 43000 | K21: 43000 | L21: 2024000151
A22: MJP000063 | B22: 351 | C22: 04 | D22: 61 | E22: 465-48 | F22: Bijkomende federale dotatie | G22: E | H22: O | I22: 2825129.8 | J22: 2825129.8 | K22: 2825129.8 | L22: 2024000061
A23: MJP000234 | B23: 351 | C23: 05 | D23: 61 | E23: 465-48 | F23: Dotatie Seveso Fonds | G23: E | H23: O | I23: 30000 | J23: 30000 | K23: 30000 | L23: 2024000150
A24: MJP000076 | B24: 351 | C24: 17 | D24: 61 | E24: 485-01 | F24: Toelage ziekenwagens | G24: E | H24: O | I24: 1030000 | J24: 1030000 | K24: 1030000 | L24: 2024000074
A25: MJP000064 | B25: 351 | C25: 01 | D25: 61 | E25: 485-01 | F25: Gem dotatie Arendonk | G25: E | H25: O | I25: 794641 | J25: 893118 | K25: 901472 | L25: 2024000062
A26: MJP000065 | B26: 351 | C26: 02 | D26: 61 | E26: 485-01 | F26: Gem dotatie Baarle-Hertog | G26: E | H26: O | I26: 133678 | J26: 150244 | K26: 151649 | L26: 2024000063
A27: MJP000066 | B27: 351 | C27: 03 | D27: 61 | E27: 485-01 | F27: Gem dotatie Beerse | G27: E | H27: O | I27: 1190724 | J27: 1338286 | K27: 1350803 | L27: 2024000064
A28: MJP000067 | B28: 351 | C28: 04 | D28: 61 | E28: 485-01 | F28: Gem dotatie Hoogstraten | G28: E | H28: O | I28: 1522443 | J28: 1711114 | K28: 1727119 | L28: 2024000065
A29: MJP000068 | B29: 351 | C29: 05 | D29: 61 | E29: 485-01 | F29: Gem dotatie Kasterlee | G29: E | H29: O | I29: 1037242 | J29: 1165783 | K29: 1176687 | L29: 2024000066
A30: MJP000069 | B30: 351 | C30: 06 | D30: 61 | E30: 485-01 | F30: Gem dotatie Lille | G30: E | H30: O | I30: 922130 | J30: 1036406 | K30: 1046100 | L30: 2024000067
A31: MJP000070 | B31: 351 | C31: 07 | D31: 61 | E31: 485-01 | F31: Gem dotatie Merksplas | G31: E | H31: O | I31: 590411 | J31: 663578 | K31: 669785 | L31: 2024000068
A32: MJP000071 | B32: 351 | C32: 08 | D32: 61 | E32: 485-01 | F32: Gem dotatie Oud-Turnhout | G32: E | H32: O | I32: 803305 | J32: 902856 | K32: 911301 | L32: 2024000069
A33: MJP000072 | B33: 351 | C33: 09 | D33: 61 | E33: 485-01 | F33: Gem dotatie Ravels | G33: E | H33: O | I33: 867669 | J33: 975196 | K33: 984317 | L33: 2024000070
... A36: MJP000075 | B36: 351 | C36: 12 | D36: 61 | E36: 485-01 | F36: Gem dotatie Vosselaar | G36: E | H36: O | I36: 574320 | J36: 645493 | K36: 651531 | L36: 2024000073
D37: Totaal 61 | I37: =SUBTOTAL(9,I16:I36) -> 17157601 | J37: =SUBTOTAL(9,J16:J36) -> 18691509 | K37: =SUBTOTAL(9,K16:K36) -> 18821629
D38: Eindtotaal | I38: =SUBTOTAL(9,I4:I36) -> 17870601 | J38: =SUBTOTAL(9,J4:J36) -> 19671869 | K38: =SUBTOTAL(9,K4:K36) -> 19792939
A39: GD - Uitgaven
A40: MJP000173 | B40: 351 | C40: 01 | D40: 70 | E40: 111-01 | F40: Bruto bezoldiging ADM | G40: E | H40: U | I40: 1176895 | J40: 1236607.9 | K40: 1253904.9 | L40: 2024000123
A41: MJP000185 | B41: 351 | D41: 70 | E41: 111-01 | F41: Brutobezoldiging OB | G41: E | H41: U | I41: 6180919.7 | J41: 6648878.3 | K41: 6700985.7 | L41: 2024000134
A42: MJP000181 | B42: 351 | C42: 01 | D42: 70 | E42: 111-08 | F42: Brutovergoeding AMBU | G42: E | H42: U | I42: 124848 | J42: 124848 | K42: 124848 | L42: 2024000130
...

Sheet Samenvatting
A1: ECG | B1: Omschrijving | C1: 2024 | D1: 2025 | E1: 2026
A2: GEWONE DIENST
B3: ONTVANGSTEN
A4: 60 | B4: Prestaties | C4: =MeerjarenPlan2024_2026!I15 -> 713000 | D4: =MeerjarenPlan2024_2026!J15 -> 980360 | E4: =MeerjarenPlan2024_2026!K15 -> 971310
A5: 61 | B5: Overdrachten | C5: =MeerjarenPlan2024_2026!I37 -> 17157601 | D5: =MeerjarenPlan2024_2026!J37 -> 18691509 | E5: =MeerjarenPlan2024_2026!K37 -> 18821629
C6: =SUM(C4:C5) -> 17870601 | D6: =SUM(D4:D5) -> 19671869 | E6: =SUM(E4:E5) -> 19792939
B7: UITGAVEN
A8: 70 | B8: Personeel | C8: =MeerjarenPlan2024_2026!I66 -> 13969262 | D8: =MeerjarenPlan2024_2026!J66 -> 14863086 | E8: =MeerjarenPlan2024_2026!K66 -> 14964967
A9: 71 | B9: Werking | C9: =MeerjarenPlan2024_2026!I146 -> 3366245 | D9: =MeerjarenPlan2024_2026!J146 -> 3406695 | E9: =MeerjarenPlan2024_2026!K146 -> 3434569.5
A10: 72 | B10: Overdracht | C10: =MeerjarenPlan2024_2026!I154 -> 692700 | D10: =MeerjarenPlan2024_2026!J154 -> 693060 | E10: =MeerjarenPlan2024_2026!K154 -> 693423.6
A11: 7X | B11: Schuld | C11: =MeerjarenPlan2024_2026!I160 -> 0 | D11: =MeerjarenPlan2024_2026!J160 -> 709029 | E11: =MeerjarenPlan2024_2026!K160 -> 699979
C12: =SUM(C8:C11) -> 18028207 | D12: =SUM(D8:D11) -> 19671870 | E12: =SUM(E8:E11) -> 19792939
B13: SALDO | C13: =C6-C12 -> -157606.04 | D13: =D6-D12 -> -1.33 | E13: =E6-E12 -> -0.11987846
A15: BUITENGEWONE DIENST
B16: ONTVANGSTEN
A17: 80 | B17: Overdracht | C17: =MeerjarenPlan2024_2026!I176 -> 1442000 | D17: =MeerjarenPlan2024_2026!J176 -> 2740000 | E17: =MeerjarenPlan2024_2026!K176 -> 1735003
A18: 81 | B18: Investeringen | C18: =MeerjarenPlan2024_2026!I178 -> 10000 | D18: =MeerjarenPlan2024_2026!J178 -> 10000 | E18: =MeerjarenPlan2024_2026!K178 -> 10000
A19: 82 | B19: Schuld | C19: =MeerjarenPlan2024_2026!I181 -> 0 | D19: =MeerjarenPlan2024_2026!J181 -> 7500000 | E19: =MeerjarenPlan2024_2026!K181 -> 0
C20: =SUM(C17:C19) -> 1452000 | D20: =SUM(D17:D19) -> 10250000 | E20: =SUM(E17:E19) -> 1745003
B21: UITGAVEN
A22: 90 | B22: Overdracht | C22: =MeerjarenPlan2024_2026!I186 -> 0 | D22: =MeerjarenPlan2024_2026!J186 -> 7500000 | E22: =MeerjarenPlan2024_2026!K186 -> 0
A23: 91 | B23: Investeringen | C23: =MeerjarenPlan2024_2026!I208 -> 1425000 | D23: =MeerjarenPlan2024_2026!J208 -> 1990000 | E23: =MeerjarenPlan2024_2026!K208 -> 1745000
C24: =SUM(C22:C23) -> 1425000 | D24: =SUM(D22:D23) -> 9490000 | E24: =SUM(E22:E23) -> 1745000
B25: SALDO | C25: =C20-C24 -> 27000 | D25: =D20-D24 -> 760000 | E25: =E20-E24 -> 3
